BEGIN:VCALENDAR
VERSION:2.0
PRODID:icalendar-ruby
CALSCALE:GREGORIAN
BEGIN:VEVENT
DTSTAMP:20260419T203024Z
UID:a7f5c57c-0a6e-4a64-bf63-6aececf29e2b
DTSTART;VALUE=DATE:20200930
DESCRIPTION:Property ID# 479848\, Locatoin: Harcourts Tawa Realty Limited\,
  215 Main Road\, Tawa\, Time: 4:00PM
SUMMARY:Auction for 
END:VEVENT
END:VCALENDAR
