BEGIN:VCALENDAR
VERSION:2.0
PRODID:icalendar-ruby
CALSCALE:GREGORIAN
BEGIN:VEVENT
DTSTAMP:20260422T054829Z
UID:953552b2-9926-4aa5-9aa1-befc59548667
DTSTART;VALUE=DATE:20200827
DESCRIPTION:Property ID# 486459\, Locatoin: 77 Thorndon Quay\, Pipitea\, We
 llington\, Time: 2:00PM
SUMMARY:Auction for 
END:VEVENT
END:VCALENDAR
