BEGIN:VCALENDAR
VERSION:2.0
PRODID:icalendar-ruby
CALSCALE:GREGORIAN
BEGIN:VEVENT
DTSTAMP:20260422T043032Z
UID:867efd72-a30f-4a47-bf15-ba558cefdae4
DTSTART;VALUE=DATE:20201203
DESCRIPTION:Property ID# 495094\, Time: 2:00PM
SUMMARY:Auction for 
END:VEVENT
END:VCALENDAR
