BEGIN:VCALENDAR
VERSION:2.0
PRODID:icalendar-ruby
CALSCALE:GREGORIAN
BEGIN:VEVENT
DTSTAMP:20260421T095422Z
UID:394d5d33-35d5-41a6-a073-490e5dbf1f29
DTSTART;VALUE=DATE:20210217
DESCRIPTION:Property ID# 500104\, Locatoin: Harcourts Tawa Realty Limited\,
  215 Main Road\, Tawa\, Time: 4:00PM
SUMMARY:Auction for 
END:VEVENT
END:VCALENDAR
