BEGIN:VCALENDAR
VERSION:2.0
PRODID:icalendar-ruby
CALSCALE:GREGORIAN
BEGIN:VEVENT
DTSTAMP:20260423T111121Z
UID:69a7d217-6870-47c1-a6bb-616fdc7d175b
DTSTART;VALUE=DATE:20210324
DESCRIPTION:Property ID# 503154\, Locatoin: Harcourts Tawa Realty Limited\,
  215 Main Road\, Tawa\, Time: 4:00PM
SUMMARY:Auction for 
END:VEVENT
END:VCALENDAR
