BEGIN:VCALENDAR
VERSION:2.0
PRODID:icalendar-ruby
CALSCALE:GREGORIAN
BEGIN:VEVENT
DTSTAMP:20260424T065221Z
UID:0d842f28-67b5-4ad7-83d3-52bde999f01a
DTSTART;VALUE=DATE:20240606
DESCRIPTION:Property ID# 575929\, Locatoin: 8 Kent Terrace\, Wellington\, T
 ime: 1:00AM
SUMMARY:Auction for 
END:VEVENT
END:VCALENDAR
