BEGIN:VCALENDAR
VERSION:2.0
PRODID:icalendar-ruby
CALSCALE:GREGORIAN
BEGIN:VEVENT
DTSTAMP:20260424T065536Z
UID:e233177b-ebe9-4b87-a23e-4832bc6b2591
DTSTART;VALUE=DATE:20240604
DESCRIPTION:Property ID# 576610\, Locatoin: 8 Kent Terrace\, Wellington\, T
 ime: 12:00PM
SUMMARY:Auction for 
END:VEVENT
END:VCALENDAR
