BEGIN:VCALENDAR
VERSION:2.0
PRODID:icalendar-ruby
CALSCALE:GREGORIAN
BEGIN:VEVENT
DTSTAMP:20260424T065524Z
UID:a8c1f7a4-d894-4226-ba02-55af4eedbad6
DTSTART;VALUE=DATE:20240919
DESCRIPTION:Property ID# 579457\, Locatoin: 8 Kent Terrace\, Wellington\, T
 ime: 1:00PM
SUMMARY:Auction for 
END:VEVENT
END:VCALENDAR
