BEGIN:VCALENDAR
VERSION:2.0
PRODID:icalendar-ruby
CALSCALE:GREGORIAN
BEGIN:VEVENT
DTSTAMP:20260424T065406Z
UID:49d689bd-0828-48f9-a0d4-ef0940dcae37
DTSTART;VALUE=DATE:20250220
DESCRIPTION:Property ID# 586985\, Locatoin: 8 Kent Terrace Wellington \, Ti
 me: 1:00PM
SUMMARY:Auction for 83 Tannadyce Street
END:VEVENT
END:VCALENDAR
