BEGIN:VCALENDAR
VERSION:2.0
PRODID:icalendar-ruby
CALSCALE:GREGORIAN
BEGIN:VEVENT
DTSTAMP:20260424T041841Z
UID:1b4d36f0-3167-4efd-a0da-2d44800dbb01
DTSTART;VALUE=DATE:20250409
DESCRIPTION:Property ID# 589963\, Locatoin: 176 Main Road\, Tawa\, Time: 1:
 00PM
SUMMARY:Auction for 
END:VEVENT
END:VCALENDAR
