BEGIN:VCALENDAR
VERSION:2.0
PRODID:icalendar-ruby
CALSCALE:GREGORIAN
BEGIN:VEVENT
DTSTAMP:20260424T041717Z
UID:3986b51d-8c43-470b-8f94-535ac75f706a
DTSTART;VALUE=DATE:20250514
DESCRIPTION:Property ID# 591385\, Locatoin: 8 Kent Terrace\, Wellington\, T
 ime: 1:00PM
SUMMARY:Auction for 
END:VEVENT
END:VCALENDAR
