BEGIN:VCALENDAR
VERSION:2.0
PRODID:icalendar-ruby
CALSCALE:GREGORIAN
BEGIN:VEVENT
DTSTAMP:20260424T065043Z
UID:1a103a1b-afb8-4bad-bf46-ef5276118f1c
DTSTART;VALUE=DATE:20250703
DESCRIPTION:Property ID# 593889\, Locatoin: 8 Kent Terrace\, Wellington (wi
 ll not be sold prior)\, Time: 1:00PM
SUMMARY:Auction for 
END:VEVENT
END:VCALENDAR
