BEGIN:VCALENDAR
VERSION:2.0
PRODID:icalendar-ruby
CALSCALE:GREGORIAN
BEGIN:VEVENT
DTSTAMP:20260424T070749Z
UID:428ad22b-fef2-40d5-bf0f-2b7122ba1297
DTSTART;VALUE=DATE:20250724
DESCRIPTION:Property ID# 594354\, Locatoin: 8 Kent Terrace\, Wellington (wi
 ll not be sold prior)\, Time: 12:00PM
SUMMARY:Auction for 
END:VEVENT
END:VCALENDAR
